BEGIN:VCALENDAR
VERSION:2.0
CALSCALE:GREGORIAN
BEGIN:VEVENT
SUMMARY:ICT Procesbegeleiderstraining
CREATED:20260423T141017Z
DTSTART;TZID=Europe/Amsterdam:20260616T093000Z
DTEND;TZID=Europe/Amsterdam:20260616T163000Z
LOCATION:Schola Medica
Orteliuslaan 750
3528 BB Utrecht
DESCRIPTION:Op dinsdag 16 juni 2026 organiseert VVGN een ICT Procesbegeleiderstraining. Deze training is verplicht voor degenen die als erkende ICT Procesbegeleider willen optreden binnen ICT-groepen voor verslavingsartsen KNMG​​ .
URL;VALUE=URI:https://vvgn.nl/nascholing/intervisie-ict-procesbegeleiderstraining-2/
STATUS:CONFIRMED
TRANSP:OPAQUE
BEGIN:VALARM
TRIGGER:-PT10M
DESCRIPTION:Reminder for ICT Procesbegeleiderstraining
ACTION:DISPLAY
END:VALARM
END:VEVENT
END:VCALENDAR
